BEGIN:VCALENDAR
VERSION:2.0
PRODID:-//wp-events-plugin.com//7.2.3.1//EN
TZID:Europe/Stockholm
X-WR-TIMEZONE:Europe/Stockholm
BEGIN:VEVENT
UID:52@sgf.se
DTSTART;TZID=Europe/Stockholm:20250507T120000
DTEND;TZID=Europe/Stockholm:20250507T140000
DTSTAMP:20250212T131304Z
URL:https://www.sgf.se/events/arsmote-sgf/
SUMMARY:Årsmöte SGF
DESCRIPTION:I samband med mässan Plastteknik i Malmö hålls årsmöte i S
 veriges gummitekniska förening.\n\nVi startar med lunch 12:00.\n\nDäreft
 er håller vi årsmötet.\nTid: 13:00 den 7 maj 2025\nPlats: Malmömässan
 \, anvisat konferensrum.\n\nSärskilt utskick kommer attgöras till medlem
 mar inkluderande en inträdesbiljett.
END:VEVENT
BEGIN:VTIMEZONE
TZID:Europe/Stockholm
X-LIC-LOCATION:Europe/Stockholm
BEGIN:DAYLIGHT
DTSTART:20250330T030000
TZOFFSETFROM:+0100
TZOFFSETTO:+0200
TZNAME:CEST
END:DAYLIGHT
END:VTIMEZONE
END:VCALENDAR