BEGIN:VCALENDAR
VERSION:2.0
PRODID:-//wp-events-plugin.com//7.2.3.1//EN
TZID:Europe/Stockholm
X-WR-TIMEZONE:Europe/Stockholm
BEGIN:VEVENT
UID:51@sgf.se
DTSTART;TZID=Europe/Stockholm;VALUE=DATE:20250325
DTEND;TZID=Europe/Stockholm;VALUE=DATE:20250330
DTSTAMP:20250131T130551Z
URL:https://www.sgf.se/events/grundkurs-gummi-laroverket/
SUMMARY:Grundkurs gummi\, Läroverket
DESCRIPTION:Grundkurs 2-dagar och 4-dagar\, är planerad till vecka 13\, tr
 oligtvis tisdag till fredag\, 25–28 mars (tis–ons för 2-dagarskursen)
 \n\nPlatsen är Gummifabriken Värnamo\nJönköpingsvägen 15\, 331 34 Vä
 rnamo\n\nKontakta Inger på inger@hagvikenslaroverk.se alt. på telefon + 
 46 70 247 97 76 vid intresse  eller om frågor uppstår.\n\nVänliga häl
 sningar från Inger\n\nwww.hagvikenslaroverk.se\n\n&nbsp\;
LOCATION:Gummifabriken\, Jönköpingsvägen 15\, Värnamo\, Sverige
X-APPLE-STRUCTURED-LOCATION;VALUE=URI;X-ADDRESS=Jönköpingsvägen 15\, Vä
 rnamo\, Sverige;X-APPLE-RADIUS=100;X-TITLE=Gummifabriken:geo:0,0
END:VEVENT
BEGIN:VTIMEZONE
TZID:Europe/Stockholm
X-LIC-LOCATION:Europe/Stockholm
BEGIN:STANDARD
DTSTART:20241027T020000
TZOFFSETFROM:+0200
TZOFFSETTO:+0100
TZNAME:CET
END:STANDARD
END:VTIMEZONE
END:VCALENDAR