BEGIN:VCALENDAR
VERSION:2.0
PRODID:-//wp-events-plugin.com//7.2.3.1//EN
TZID:Europe/Stockholm
X-WR-TIMEZONE:Europe/Stockholm
BEGIN:VEVENT
UID:6@sgf.se
DTSTART;TZID=Europe/Stockholm;VALUE=DATE:20160608
DTEND;TZID=Europe/Stockholm;VALUE=DATE:20160610
DTSTAMP:20150709T123054Z
URL:https://www.sgf.se/events/rubbercon-2016/
SUMMARY:RubberCon 2016
DESCRIPTION:The Finnish Association for Rubber Technology invites all rubbe
 r professionals to Tampere\, Finland for RubberCon 2016.\n\nTheme is "Rubb
 er in difficult and extreme conditions".\n\nRubberCon 2016 invitation\n\nR
 ubberCon 2016 presentation - Finland\n\nRubberCon 2016 Sponsorship package
 s\n\nwww.rubbercon2016.com
LOCATION:Tampere\, Solo Sokis Hotel\, Tampere\, Finland
GEO:61.4981508;23.761025399999994
X-APPLE-STRUCTURED-LOCATION;VALUE=URI;X-ADDRESS=Solo Sokis Hotel\, Tampere\
 , Finland;X-APPLE-RADIUS=100;X-TITLE=Tampere:geo:61.4981508,23.76102539999
 9994
END:VEVENT
BEGIN:VTIMEZONE
TZID:Europe/Stockholm
X-LIC-LOCATION:Europe/Stockholm
BEGIN:DAYLIGHT
DTSTART:20160327T030000
TZOFFSETFROM:+0100
TZOFFSETTO:+0200
TZNAME:CEST
END:DAYLIGHT
END:VTIMEZONE
END:VCALENDAR