BEGIN:VCALENDAR
VERSION:2.0
PRODID:-//wp-events-plugin.com//7.2.3.1//EN
TZID:Europe/Stockholm
X-WR-TIMEZONE:Europe/Stockholm
BEGIN:VEVENT
UID:45@sgf.se
DTSTART;TZID=Europe/Stockholm;VALUE=DATE:20230510
DTEND;TZID=Europe/Stockholm;VALUE=DATE:20230512
DTSTAMP:20220126T130830Z
URL:https://www.sgf.se/events/rubbercon-2023-edinburgh-uk/
SUMMARY:RubberCon 2023 Edinburgh\, UK
DESCRIPTION:RIEG will be hosting RubberCon 2023 in Edinburgh\, UK from 10-1
 1 May\, 2023.
END:VEVENT
BEGIN:VTIMEZONE
TZID:Europe/Stockholm
X-LIC-LOCATION:Europe/Stockholm
BEGIN:DAYLIGHT
DTSTART:20230326T030000
TZOFFSETFROM:+0100
TZOFFSETTO:+0200
TZNAME:CEST
END:DAYLIGHT
END:VTIMEZONE
END:VCALENDAR