BEGIN:VCALENDAR
VERSION:2.0
PRODID:-//wp-events-plugin.com//7.2.3.1//EN
TZID:Europe/Stockholm
X-WR-TIMEZONE:Europe/Stockholm
BEGIN:VEVENT
UID:49@sgf.se
DTSTART;TZID=Europe/Stockholm;VALUE=DATE:20250909
DTEND;TZID=Europe/Stockholm;VALUE=DATE:20250912
DTSTAMP:20241210T142604Z
URL:https://www.sgf.se/events/rubbercon-2025/
SUMMARY:RubberCon 2025
DESCRIPTION:SGF are hosting RubberCon 2025 in Stockholm!\n\nSee you there!
LOCATION:Södra teatern\, Mosebacke Torg 1\, Stockholm\, 116 46\, Sverige
X-APPLE-STRUCTURED-LOCATION;VALUE=URI;X-ADDRESS=Mosebacke Torg 1\, Stockhol
 m\, 116 46\, Sverige;X-APPLE-RADIUS=100;X-TITLE=Södra teatern:geo:0,0
END:VEVENT
BEGIN:VTIMEZONE
TZID:Europe/Stockholm
X-LIC-LOCATION:Europe/Stockholm
BEGIN:DAYLIGHT
DTSTART:20250330T030000
TZOFFSETFROM:+0100
TZOFFSETTO:+0200
TZNAME:CEST
END:DAYLIGHT
END:VTIMEZONE
END:VCALENDAR