BEGIN:VCALENDAR
VERSION:2.0
PRODID:-//wp-events-plugin.com//7.2.3.1//EN
TZID:Europe/Stockholm
X-WR-TIMEZONE:Europe/Stockholm
BEGIN:VEVENT
UID:53@sgf.se
DTSTART;TZID=Europe/Stockholm;VALUE=DATE:20260428
DTEND;TZID=Europe/Stockholm;VALUE=DATE:20260430
DTSTAMP:20250915T090937Z
URL:https://www.sgf.se/events/rubbercon-2026/
SUMMARY:RubberCon 2026
DESCRIPTION:In 2026\, this annual conference will be organized by the\nFren
 ch rubber scientific association\, under the aegis of IRCO\n(International
  Rubber Conference Organization).\n\n250911_Aficep_Introduction Rubbercon 
 2026\n\n&nbsp\;
END:VEVENT
BEGIN:VTIMEZONE
TZID:Europe/Stockholm
X-LIC-LOCATION:Europe/Stockholm
BEGIN:DAYLIGHT
DTSTART:20260329T030000
TZOFFSETFROM:+0100
TZOFFSETTO:+0200
TZNAME:CEST
END:DAYLIGHT
END:VTIMEZONE
END:VCALENDAR